BEGIN:VCALENDAR
VERSION:2.0
PRODID:-//OS//seminar.event//DE
URL:https://www.akademie-stuw.de/seminar/id/1012
NAME:LIVE-WEBINAR: Jahresabschluss 2021
X-WR-CALNAME:LIVE-WEBINAR: Jahresabschluss 2021
TIMEZONE-ID:Europe/Berlin
X-WR-TIMEZONE:Europe/Berlin
BEGIN:VEVENT
UID:1733@os-seminare.de
SEQUENCE:0
DTSTAMP:20260420T145600Z
DTSTART:20220124T143000Z
DTEND:20220124T180000Z
SUMMARY:HYBRID: Jahresabschluss 2021
LOCATION:LIVE-Webinar\, per Anmeldelink
DESCRIPTION:https://www.akademie-stuw.de/seminar/id/1012
URL;VALUE=URI:https://www.akademie-stuw.de/seminar/id/1012
END:VEVENT
END:VCALENDAR