BEGIN:VCALENDAR
VERSION:2.0
PRODID:-//OS//seminar.event//DE
URL:https://www.akademie-stuw.de/seminar/id/1030
NAME:LIVE-WEBINAR: Umsatzsteuer 2022
X-WR-CALNAME:LIVE-WEBINAR: Umsatzsteuer 2022
TIMEZONE-ID:Europe/Berlin
X-WR-TIMEZONE:Europe/Berlin
BEGIN:VEVENT
UID:1747@os-seminare.de
SEQUENCE:0
DTSTAMP:20260423T203106Z
DTSTART:20220222T083000Z
DTEND:20220222T154500Z
SUMMARY:Live-Webinar: Umsatzsteuer 2022
LOCATION:LIVE-Webinar\, per Anmeldelink
DESCRIPTION:https://www.akademie-stuw.de/seminar/id/1030
URL;VALUE=URI:https://www.akademie-stuw.de/seminar/id/1030
END:VEVENT
END:VCALENDAR