BEGIN:VCALENDAR
VERSION:2.0
PRODID:-//OS//seminar.event//DE
URL:https://www.akademie-stuw.de/seminar/id/1200
NAME:HYBRID: Liquidation einer GmbH
X-WR-CALNAME:HYBRID: Liquidation einer GmbH
TIMEZONE-ID:Europe/Berlin
X-WR-TIMEZONE:Europe/Berlin
BEGIN:VEVENT
UID:2066@os-seminare.de
SEQUENCE:0
DTSTAMP:20260419T151432Z
DTSTART:20220517T073000Z
DTEND:20220517T144500Z
SUMMARY:HYBRID: Liquidation einer GmbH
LOCATION:Schulungszentrum der Akademie\, Von-der-Wettern-Str. 17\, 51149 K
 öln
DESCRIPTION:https://www.akademie-stuw.de/seminar/id/1200
URL;VALUE=URI:https://www.akademie-stuw.de/seminar/id/1200
END:VEVENT
BEGIN:VEVENT
UID:2067@os-seminare.de
SEQUENCE:0
DTSTAMP:20260419T151432Z
DTSTART:20220517T073000Z
DTEND:20220517T144500Z
SUMMARY:HYBRID: Liquidation einer GmbH
LOCATION:LIVE-Webinar\, per Anmeldelink
DESCRIPTION:https://www.akademie-stuw.de/seminar/id/1200
URL;VALUE=URI:https://www.akademie-stuw.de/seminar/id/1200
END:VEVENT
END:VCALENDAR