BEGIN:VCALENDAR
VERSION:2.0
PRODID:-//OS//seminar.event//DE
URL:https://www.akademie-stuw.de/seminar/id/2031
NAME:Praktiker-Seminare 2023/2024 Digital
X-WR-CALNAME:Praktiker-Seminare 2023/2024 Digital
TIMEZONE-ID:Europe/Berlin
X-WR-TIMEZONE:Europe/Berlin
BEGIN:VEVENT
UID:3164@os-seminare.de
SEQUENCE:0
DTSTAMP:20260425T165147Z
DTSTART:20230905T130000Z
DTEND:20230905T163000Z
SUMMARY:Aktuelles zur Umsatzsteuerpraxis 2023
LOCATION:LIVE-Webinar\, per Anmeldelink
DESCRIPTION:https://www.akademie-stuw.de/seminar/id/2031
URL;VALUE=URI:https://www.akademie-stuw.de/seminar/id/2031
END:VEVENT
BEGIN:VEVENT
UID:3165@os-seminare.de
SEQUENCE:0
DTSTAMP:20260425T165147Z
DTSTART:20231010T130000Z
DTEND:20231010T163000Z
SUMMARY:Update Einkommensteuerrecht
LOCATION:LIVE-Webinar\, per Anmeldelink
DESCRIPTION:https://www.akademie-stuw.de/seminar/id/2031
URL;VALUE=URI:https://www.akademie-stuw.de/seminar/id/2031
END:VEVENT
BEGIN:VEVENT
UID:3166@os-seminare.de
SEQUENCE:0
DTSTAMP:20260425T165147Z
DTSTART:20231107T140000Z
DTEND:20231107T173000Z
SUMMARY:Personengesellschaften in der Beratungspraxis
LOCATION:LIVE-Webinar\, per Anmeldelink
DESCRIPTION:https://www.akademie-stuw.de/seminar/id/2031
URL;VALUE=URI:https://www.akademie-stuw.de/seminar/id/2031
END:VEVENT
BEGIN:VEVENT
UID:3167@os-seminare.de
SEQUENCE:0
DTSTAMP:20260425T165147Z
DTSTART:20231205T140000Z
DTEND:20231205T173000Z
SUMMARY:Praxisrelevante Fragen zum Körperschaftsteuerrecht
LOCATION:LIVE-Webinar\, per Anmeldelink
DESCRIPTION:https://www.akademie-stuw.de/seminar/id/2031
URL;VALUE=URI:https://www.akademie-stuw.de/seminar/id/2031
END:VEVENT
BEGIN:VEVENT
UID:3168@os-seminare.de
SEQUENCE:0
DTSTAMP:20260425T165147Z
DTSTART:20240109T140000Z
DTEND:20240109T173000Z
SUMMARY:Aktuelle erbschaftsteuerliche Fallgestaltungen
LOCATION:LIVE-Webinar\, per Anmeldelink
DESCRIPTION:https://www.akademie-stuw.de/seminar/id/2031
URL;VALUE=URI:https://www.akademie-stuw.de/seminar/id/2031
END:VEVENT
BEGIN:VEVENT
UID:3169@os-seminare.de
SEQUENCE:0
DTSTAMP:20260425T165147Z
DTSTART:20240206T140000Z
DTEND:20240206T173000Z
SUMMARY:Neues aus dem Bilanzsteuerrecht
LOCATION:LIVE-Webinar\, per Anmeldelink
DESCRIPTION:https://www.akademie-stuw.de/seminar/id/2031
URL;VALUE=URI:https://www.akademie-stuw.de/seminar/id/2031
END:VEVENT
BEGIN:VEVENT
UID:3170@os-seminare.de
SEQUENCE:0
DTSTAMP:20260425T165147Z
DTSTART:20240305T140000Z
DTEND:20240305T173000Z
SUMMARY:Aktuelle Hinweise zum Verfahrensrecht
LOCATION:LIVE-Webinar\, per Anmeldelink
DESCRIPTION:https://www.akademie-stuw.de/seminar/id/2031
URL;VALUE=URI:https://www.akademie-stuw.de/seminar/id/2031
END:VEVENT
BEGIN:VEVENT
UID:3171@os-seminare.de
SEQUENCE:0
DTSTAMP:20260425T165147Z
DTSTART:20240409T130000Z
DTEND:20240409T163000Z
SUMMARY:Aktuelle Fälle zur Umwandlung und Umstrukturierung von Unternehmen
LOCATION:LIVE-Webinar\, per Anmeldelink
DESCRIPTION:https://www.akademie-stuw.de/seminar/id/2031
URL;VALUE=URI:https://www.akademie-stuw.de/seminar/id/2031
END:VEVENT
BEGIN:VEVENT
UID:3172@os-seminare.de
SEQUENCE:0
DTSTAMP:20260425T165147Z
DTSTART:20240507T130000Z
DTEND:20240507T163000Z
SUMMARY:Umsatzsteuerliche Neuheiten 2024
LOCATION:LIVE-Webinar\, per Anmeldelink
DESCRIPTION:https://www.akademie-stuw.de/seminar/id/2031
URL;VALUE=URI:https://www.akademie-stuw.de/seminar/id/2031
END:VEVENT
BEGIN:VEVENT
UID:3173@os-seminare.de
SEQUENCE:0
DTSTAMP:20260425T165147Z
DTSTART:20240604T130000Z
DTEND:20240604T163000Z
SUMMARY:Ertragsteuerliche Beratungsschwerpunkte
LOCATION:LIVE-Webinar\, per Anmeldelink
DESCRIPTION:https://www.akademie-stuw.de/seminar/id/2031
URL;VALUE=URI:https://www.akademie-stuw.de/seminar/id/2031
END:VEVENT
END:VCALENDAR