BEGIN:VCALENDAR
VERSION:2.0
PRODID:-//OS//seminar.event//DE
URL:https://www.akademie-stuw.de/seminar/id/2034
NAME:Praktiker-Seminare 2023/2024 Köln IV
X-WR-CALNAME:Praktiker-Seminare 2023/2024 Köln IV
TIMEZONE-ID:Europe/Berlin
X-WR-TIMEZONE:Europe/Berlin
BEGIN:VEVENT
UID:3194@os-seminare.de
SEQUENCE:0
DTSTAMP:20260425T110458Z
DTSTART:20230920T133000Z
DTEND:20230920T170000Z
SUMMARY:Aktuelles zur Umsatzsteuerpraxis 2023
LOCATION:Schulungszentrum der Akademie\, Von-der-Wettern-Str. 17\, 51149 K
 öln
DESCRIPTION:https://www.akademie-stuw.de/seminar/id/2034
URL;VALUE=URI:https://www.akademie-stuw.de/seminar/id/2034
END:VEVENT
BEGIN:VEVENT
UID:3195@os-seminare.de
SEQUENCE:0
DTSTAMP:20260425T110458Z
DTSTART:20231025T133000Z
DTEND:20231025T170000Z
SUMMARY:Update Einkommensteuerrecht
LOCATION:Schulungszentrum der Akademie\, Von-der-Wettern-Str. 17\, 51149 K
 öln
DESCRIPTION:https://www.akademie-stuw.de/seminar/id/2034
URL;VALUE=URI:https://www.akademie-stuw.de/seminar/id/2034
END:VEVENT
BEGIN:VEVENT
UID:3196@os-seminare.de
SEQUENCE:0
DTSTAMP:20260425T110458Z
DTSTART:20231129T143000Z
DTEND:20231129T180000Z
SUMMARY:Personengesellschaften in der Beratungspraxis	
LOCATION:Schulungszentrum der Akademie\, Von-der-Wettern-Str. 17\, 51149 K
 öln
DESCRIPTION:https://www.akademie-stuw.de/seminar/id/2034
URL;VALUE=URI:https://www.akademie-stuw.de/seminar/id/2034
END:VEVENT
BEGIN:VEVENT
UID:3197@os-seminare.de
SEQUENCE:0
DTSTAMP:20260425T110458Z
DTSTART:20231220T143000Z
DTEND:20231220T180000Z
SUMMARY:Praxisrelevante Fragen zum Körperschaftsteuerrecht	
LOCATION:Schulungszentrum der Akademie\, Von-der-Wettern-Str. 17\, 51149 K
 öln
DESCRIPTION:https://www.akademie-stuw.de/seminar/id/2034
URL;VALUE=URI:https://www.akademie-stuw.de/seminar/id/2034
END:VEVENT
BEGIN:VEVENT
UID:3198@os-seminare.de
SEQUENCE:0
DTSTAMP:20260425T110458Z
DTSTART:20240124T143000Z
DTEND:20240124T180000Z
SUMMARY:Aktuelle erbschaftsteuerliche Fallgestaltungen	
LOCATION:Schulungszentrum der Akademie\, Von-der-Wettern-Str. 17\, 51149 K
 öln
DESCRIPTION:https://www.akademie-stuw.de/seminar/id/2034
URL;VALUE=URI:https://www.akademie-stuw.de/seminar/id/2034
END:VEVENT
BEGIN:VEVENT
UID:3199@os-seminare.de
SEQUENCE:0
DTSTAMP:20260425T110458Z
DTSTART:20240221T143000Z
DTEND:20240221T180000Z
SUMMARY:Neues aus dem Bilanzsteuerrecht	
LOCATION:Schulungszentrum der Akademie\, Von-der-Wettern-Str. 17\, 51149 K
 öln
DESCRIPTION:https://www.akademie-stuw.de/seminar/id/2034
URL;VALUE=URI:https://www.akademie-stuw.de/seminar/id/2034
END:VEVENT
BEGIN:VEVENT
UID:3200@os-seminare.de
SEQUENCE:0
DTSTAMP:20260425T110458Z
DTSTART:20240313T143000Z
DTEND:20240313T180000Z
SUMMARY:Aktuelle Hinweise zum Verfahrensrecht	
LOCATION:Schulungszentrum der Akademie\, Von-der-Wettern-Str. 17\, 51149 K
 öln
DESCRIPTION:https://www.akademie-stuw.de/seminar/id/2034
URL;VALUE=URI:https://www.akademie-stuw.de/seminar/id/2034
END:VEVENT
BEGIN:VEVENT
UID:3201@os-seminare.de
SEQUENCE:0
DTSTAMP:20260425T110458Z
DTSTART:20240417T133000Z
DTEND:20240417T170000Z
SUMMARY:Aktuelle Fälle zur Umwandlung und Umstrukturierung von Unternehmen
 	
LOCATION:Schulungszentrum der Akademie\, Von-der-Wettern-Str. 17\, 51149 K
 öln
DESCRIPTION:https://www.akademie-stuw.de/seminar/id/2034
URL;VALUE=URI:https://www.akademie-stuw.de/seminar/id/2034
END:VEVENT
BEGIN:VEVENT
UID:3202@os-seminare.de
SEQUENCE:0
DTSTAMP:20260425T110458Z
DTSTART:20240522T133000Z
DTEND:20240522T170000Z
SUMMARY:Umsatzsteuerliche Neuheiten 2024	
LOCATION:Schulungszentrum der Akademie\, Von-der-Wettern-Str. 17\, 51149 K
 öln
DESCRIPTION:https://www.akademie-stuw.de/seminar/id/2034
URL;VALUE=URI:https://www.akademie-stuw.de/seminar/id/2034
END:VEVENT
BEGIN:VEVENT
UID:3203@os-seminare.de
SEQUENCE:0
DTSTAMP:20260425T110458Z
DTSTART:20240626T133000Z
DTEND:20240626T170000Z
SUMMARY:Ertragsteuerliche Beratungsschwerpunkte	
LOCATION:Schulungszentrum der Akademie\, Von-der-Wettern-Str. 17\, 51149 K
 öln
DESCRIPTION:https://www.akademie-stuw.de/seminar/id/2034
URL;VALUE=URI:https://www.akademie-stuw.de/seminar/id/2034
END:VEVENT
END:VCALENDAR