BEGIN:VCALENDAR
VERSION:2.0
PRODID:-//OS//seminar.event//DE
URL:https://www.akademie-stuw.de/seminar/id/2321
NAME:Keine Angst vor dem finanzgerichtlichen Verfahren – Eine Finanzrichte
 rin zeigt wie es geht
X-WR-CALNAME:Keine Angst vor dem finanzgerichtlichen Verfahren – Eine Fina
 nzrichterin zeigt wie es geht
TIMEZONE-ID:Europe/Berlin
X-WR-TIMEZONE:Europe/Berlin
BEGIN:VEVENT
UID:3563@os-seminare.de
SEQUENCE:0
DTSTAMP:20260420T191701Z
DTSTART:20231020T090000Z
DTEND:20231020T094500Z
SUMMARY:Keine Angst vor dem finanzgerichtlichen Verfahren – Eine Finanzric
 hterin zeigt wie es geht
LOCATION:LIVE-Webinar\, per Anmeldelink
DESCRIPTION:https://www.akademie-stuw.de/seminar/id/2321
URL;VALUE=URI:https://www.akademie-stuw.de/seminar/id/2321
END:VEVENT
END:VCALENDAR