BEGIN:VCALENDAR
VERSION:2.0
PRODID:-//OS//seminar.event//DE
URL:https://www.akademie-stuw.de/seminar/id/2332
NAME:Influencer, Youtuber, Streamer & Co.
X-WR-CALNAME:Influencer, Youtuber, Streamer & Co.
TIMEZONE-ID:Europe/Berlin
X-WR-TIMEZONE:Europe/Berlin
BEGIN:VEVENT
UID:3578@os-seminare.de
SEQUENCE:0
DTSTAMP:20260424T114753Z
DTSTART:20231009T120000Z
DTEND:20231009T124500Z
SUMMARY:Influencer\, Youtuber\, Streamer & Co.
LOCATION:LIVE-Webinar\, per Anmeldelink
DESCRIPTION:https://www.akademie-stuw.de/seminar/id/2332
URL;VALUE=URI:https://www.akademie-stuw.de/seminar/id/2332
END:VEVENT
END:VCALENDAR