BEGIN:VCALENDAR
VERSION:2.0
PRODID:-//OS//seminar.event//DE
URL:https://www.akademie-stuw.de/seminar/id/2333
NAME:Sonderabschreibung für den energetischen Mietwohnungsneubau - § 7b ES
 tG
X-WR-CALNAME:Sonderabschreibung für den energetischen Mietwohnungsneubau -
  § 7b EStG
TIMEZONE-ID:Europe/Berlin
X-WR-TIMEZONE:Europe/Berlin
BEGIN:VEVENT
UID:3579@os-seminare.de
SEQUENCE:0
DTSTAMP:20260420T211137Z
DTSTART:20231204T100000Z
DTEND:20231204T104500Z
SUMMARY:Sonderabschreibung für den energetischen Mietwohnungsneubau - § 7b
  EStG
LOCATION:LIVE-Webinar\, per Anmeldelink
DESCRIPTION:https://www.akademie-stuw.de/seminar/id/2333
URL;VALUE=URI:https://www.akademie-stuw.de/seminar/id/2333
END:VEVENT
END:VCALENDAR