BEGIN:VCALENDAR
VERSION:2.0
PRODID:-//OS//seminar.event//DE
URL:https://www.akademie-stuw.de/seminar/id/2549
NAME:Excel für Einsteiger
X-WR-CALNAME:Excel für Einsteiger
TIMEZONE-ID:Europe/Berlin
X-WR-TIMEZONE:Europe/Berlin
BEGIN:VEVENT
UID:4027@os-seminare.de
SEQUENCE:0
DTSTAMP:20260421T011701Z
DTSTART:20240221T080000Z
DTEND:20240221T120000Z
SUMMARY:Excel für Einsteiger
LOCATION:LIVE-Webinar\, per Anmeldelink
DESCRIPTION:https://www.akademie-stuw.de/seminar/id/2549
URL;VALUE=URI:https://www.akademie-stuw.de/seminar/id/2549
END:VEVENT
END:VCALENDAR