BEGIN:VCALENDAR
VERSION:2.0
PRODID:-//OS//seminar.event//DE
URL:https://www.akademie-stuw.de/seminar/id/2832
NAME:Geldwäsche vorbeugen und vermeiden – Risiken und Prävention in der St
 euerkanzlei
X-WR-CALNAME:Geldwäsche vorbeugen und vermeiden – Risiken und Prävention i
 n der Steuerkanzlei
TIMEZONE-ID:Europe/Berlin
X-WR-TIMEZONE:Europe/Berlin
BEGIN:VEVENT
UID:4276@os-seminare.de
SEQUENCE:0
DTSTAMP:20260424T234944Z
DTSTART:20241107T080000Z
DTEND:20241107T113000Z
SUMMARY:Geldwäsche vorbeugen und vermeiden – Risiken und Prävention in der
  Steuerkanzlei
LOCATION:LIVE-Webinar\, per Anmeldelink
DESCRIPTION:https://www.akademie-stuw.de/seminar/id/2832
URL;VALUE=URI:https://www.akademie-stuw.de/seminar/id/2832
END:VEVENT
END:VCALENDAR