BEGIN:VCALENDAR
VERSION:2.0
PRODID:-//OS//seminar.event//DE
URL:https://www.akademie-stuw.de/seminar/id/2848
NAME:Praktiker-Seminare 2024/2025 Rhein-Berg
X-WR-CALNAME:Praktiker-Seminare 2024/2025 Rhein-Berg
TIMEZONE-ID:Europe/Berlin
X-WR-TIMEZONE:Europe/Berlin
BEGIN:VEVENT
UID:4372@os-seminare.de
SEQUENCE:0
DTSTAMP:20260423T122022Z
DTSTART:20240919T133000Z
DTEND:20240919T170000Z
SUMMARY:Umsatzsteuerliche Besonderheiten 2024
LOCATION:Kardinal Schulte Haus Berg. Gladbach\, Overather Str. 51-53\, 514
 29 Bergisch Gladbach
DESCRIPTION:https://www.akademie-stuw.de/seminar/id/2848
URL;VALUE=URI:https://www.akademie-stuw.de/seminar/id/2848
END:VEVENT
BEGIN:VEVENT
UID:4373@os-seminare.de
SEQUENCE:0
DTSTAMP:20260423T122022Z
DTSTART:20241031T143000Z
DTEND:20241031T180000Z
SUMMARY:Aktuelles zur Einkommensteuer	
LOCATION:Kardinal Schulte Haus Berg. Gladbach\, Overather Str. 51-53\, 514
 29 Bergisch Gladbach
DESCRIPTION:https://www.akademie-stuw.de/seminar/id/2848
URL;VALUE=URI:https://www.akademie-stuw.de/seminar/id/2848
END:VEVENT
BEGIN:VEVENT
UID:4374@os-seminare.de
SEQUENCE:0
DTSTAMP:20260423T122022Z
DTSTART:20241121T143000Z
DTEND:20241121T180000Z
SUMMARY:Neuheiten bei der Besteuerung der Personengesellschaft	
LOCATION:Kardinal Schulte Haus Berg. Gladbach\, Overather Str. 51-53\, 514
 29 Bergisch Gladbach
DESCRIPTION:https://www.akademie-stuw.de/seminar/id/2848
URL;VALUE=URI:https://www.akademie-stuw.de/seminar/id/2848
END:VEVENT
BEGIN:VEVENT
UID:4375@os-seminare.de
SEQUENCE:0
DTSTAMP:20260423T122022Z
DTSTART:20241219T143000Z
DTEND:20241219T180000Z
SUMMARY:Aktuelle Körperschaftsteuerrechtliche Fallgestaltungen	
LOCATION:Kardinal Schulte Haus Berg. Gladbach\, Overather Str. 51-53\, 514
 29 Bergisch Gladbach
DESCRIPTION:https://www.akademie-stuw.de/seminar/id/2848
URL;VALUE=URI:https://www.akademie-stuw.de/seminar/id/2848
END:VEVENT
BEGIN:VEVENT
UID:4376@os-seminare.de
SEQUENCE:0
DTSTAMP:20260423T122022Z
DTSTART:20250123T143000Z
DTEND:20250123T180000Z
SUMMARY:Aktuelle Herausforderungen in der Erbschaftsteuerpraxis	
LOCATION:Kardinal Schulte Haus Berg. Gladbach\, Overather Str. 51-53\, 514
 29 Bergisch Gladbach
DESCRIPTION:https://www.akademie-stuw.de/seminar/id/2848
URL;VALUE=URI:https://www.akademie-stuw.de/seminar/id/2848
END:VEVENT
BEGIN:VEVENT
UID:4377@os-seminare.de
SEQUENCE:0
DTSTAMP:20260423T122022Z
DTSTART:20250220T143000Z
DTEND:20250220T180000Z
SUMMARY:Bilanzen in der Beratungspraxis	
LOCATION:Kardinal Schulte Haus Berg. Gladbach\, Overather Str. 51-53\, 514
 29 Bergisch Gladbach
DESCRIPTION:https://www.akademie-stuw.de/seminar/id/2848
URL;VALUE=URI:https://www.akademie-stuw.de/seminar/id/2848
END:VEVENT
BEGIN:VEVENT
UID:4378@os-seminare.de
SEQUENCE:0
DTSTAMP:20260423T122022Z
DTSTART:20250320T143000Z
DTEND:20250320T180000Z
SUMMARY:Update zum Verfahrensrecht	
LOCATION:Kardinal Schulte Haus Berg. Gladbach\, Overather Str. 51-53\, 514
 29 Bergisch Gladbach
DESCRIPTION:https://www.akademie-stuw.de/seminar/id/2848
URL;VALUE=URI:https://www.akademie-stuw.de/seminar/id/2848
END:VEVENT
BEGIN:VEVENT
UID:4379@os-seminare.de
SEQUENCE:0
DTSTAMP:20260423T122022Z
DTSTART:20250410T133000Z
DTEND:20250410T170000Z
SUMMARY:Besonderheiten bei der Unternehmensbesteuerung im Ertrags- und Umw
 andlungssteuerrecht	
LOCATION:Kardinal Schulte Haus Berg. Gladbach\, Overather Str. 51-53\, 514
 29 Bergisch Gladbach
DESCRIPTION:https://www.akademie-stuw.de/seminar/id/2848
URL;VALUE=URI:https://www.akademie-stuw.de/seminar/id/2848
END:VEVENT
BEGIN:VEVENT
UID:4380@os-seminare.de
SEQUENCE:0
DTSTAMP:20260423T122022Z
DTSTART:20250515T133000Z
DTEND:20250515T170000Z
SUMMARY:Umsatzsteuerliche Neuheiten 2025	
LOCATION:Kardinal Schulte Haus Berg. Gladbach\, Overather Str. 51-53\, 514
 29 Bergisch Gladbach
DESCRIPTION:https://www.akademie-stuw.de/seminar/id/2848
URL;VALUE=URI:https://www.akademie-stuw.de/seminar/id/2848
END:VEVENT
BEGIN:VEVENT
UID:4381@os-seminare.de
SEQUENCE:0
DTSTAMP:20260423T122022Z
DTSTART:20250626T133000Z
DTEND:20250626T170000Z
SUMMARY:Aktuelle steuerliche Gestaltungsmöglichkeiten in der Beratungsprax
 is	
LOCATION:Kardinal Schulte Haus Berg. Gladbach\, Overather Str. 51-53\, 514
 29 Bergisch Gladbach
DESCRIPTION:https://www.akademie-stuw.de/seminar/id/2848
URL;VALUE=URI:https://www.akademie-stuw.de/seminar/id/2848
END:VEVENT
END:VCALENDAR