BEGIN:VCALENDAR
VERSION:2.0
PRODID:-//OS//seminar.event//DE
URL:https://www.akademie-stuw.de/seminar/id/3064
NAME:Hybrid- & Elektrofahrzeuge im Steuerrecht
X-WR-CALNAME:Hybrid- & Elektrofahrzeuge im Steuerrecht
TIMEZONE-ID:Europe/Berlin
X-WR-TIMEZONE:Europe/Berlin
BEGIN:VEVENT
UID:4639@os-seminare.de
SEQUENCE:0
DTSTAMP:20260423T052043Z
DTSTART:20241119T073000Z
DTEND:20241119T081500Z
SUMMARY:Hybrid- & Elektrofahrzeuge im Steuerrecht
LOCATION:LIVE-Webinar\, per Anmeldelink
DESCRIPTION:https://www.akademie-stuw.de/seminar/id/3064
URL;VALUE=URI:https://www.akademie-stuw.de/seminar/id/3064
END:VEVENT
END:VCALENDAR