BEGIN:VCALENDAR
VERSION:2.0
PRODID:-//OS//seminar.event//DE
URL:https://www.akademie-stuw.de/seminar/id/3242
NAME:Aktuelle steuer- und zivilrechtliche Überlegungen zum Jahresende 2024
  in Düren/Rhein-Erft-Kreis
X-WR-CALNAME:Aktuelle steuer- und zivilrechtliche Überlegungen zum Jahrese
 nde 2024 in Düren/Rhein-Erft-Kreis
TIMEZONE-ID:Europe/Berlin
X-WR-TIMEZONE:Europe/Berlin
BEGIN:VEVENT
UID:4927@os-seminare.de
SEQUENCE:0
DTSTAMP:20260420T042359Z
DTSTART:20241211T160000Z
DTEND:20241211T190000Z
SUMMARY:Aktuelle steuer- und zivilrechtliche Überlegungen zum Jahresende 2
 024 in Düren/Rhein-Erft-Kreis
LOCATION:Michael Schumacher\, Michael-Schumacher-Str. 5\, 50170 Kerpen
DESCRIPTION:https://www.akademie-stuw.de/seminar/id/3242
URL;VALUE=URI:https://www.akademie-stuw.de/seminar/id/3242
END:VEVENT
END:VCALENDAR