BEGIN:VCALENDAR
VERSION:2.0
PRODID:-//OS//seminar.event//DE
URL:https://www.akademie-stuw.de/seminar/id/3499
NAME:Aktuelles zur steuerlichen Unternehmensbewertung
X-WR-CALNAME:Aktuelles zur steuerlichen Unternehmensbewertung
TIMEZONE-ID:Europe/Berlin
X-WR-TIMEZONE:Europe/Berlin
BEGIN:VEVENT
UID:5315@os-seminare.de
SEQUENCE:0
DTSTAMP:20260423T165803Z
DTSTART:20250321T080000Z
DTEND:20250321T113000Z
SUMMARY:Aktuelles zur steuerlichen Unternehmensbewertung
LOCATION:LIVE-Webinar\, per Anmeldelink
DESCRIPTION:https://www.akademie-stuw.de/seminar/id/3499
URL;VALUE=URI:https://www.akademie-stuw.de/seminar/id/3499
END:VEVENT
END:VCALENDAR