BEGIN:VCALENDAR
VERSION:2.0
PRODID:-//OS//seminar.event//DE
URL:https://www.akademie-stuw.de/seminar/id/3641
NAME:DATEV -Kooperationsseminar: Microsoft Copilot in der Praxis – smarter
  arbeiten mit KI
X-WR-CALNAME:DATEV -Kooperationsseminar: Microsoft Copilot in der Praxis –
  smarter arbeiten mit KI
TIMEZONE-ID:Europe/Berlin
X-WR-TIMEZONE:Europe/Berlin
BEGIN:VEVENT
UID:5517@os-seminare.de
SEQUENCE:0
DTSTAMP:20260423T154627Z
DTSTART:20250710T070000Z
DTEND:20250710T093000Z
SUMMARY:DATEV -Kooperationsseminar: Microsoft Copilot in der Praxis – smar
 ter arbeiten mit KI
LOCATION:LIVE-Webinar\, per Anmeldelink
DESCRIPTION:https://www.akademie-stuw.de/seminar/id/3641
URL;VALUE=URI:https://www.akademie-stuw.de/seminar/id/3641
END:VEVENT
END:VCALENDAR