BEGIN:VCALENDAR
VERSION:2.0
PRODID:-//OS//seminar.event//DE
URL:https://www.akademie-stuw.de/seminar/id/3728
NAME:Vermögensübertragungen im Familienverbund
X-WR-CALNAME:Vermögensübertragungen im Familienverbund
TIMEZONE-ID:Europe/Berlin
X-WR-TIMEZONE:Europe/Berlin
BEGIN:VEVENT
UID:5687@os-seminare.de
SEQUENCE:0
DTSTAMP:20260423T152532Z
DTSTART:20250508T070000Z
DTEND:20250508T103000Z
SUMMARY:Vermögensübertragungen im Familienverbund
LOCATION:LIVE-Webinar\, per Anmeldelink
DESCRIPTION:https://www.akademie-stuw.de/seminar/id/3728
URL;VALUE=URI:https://www.akademie-stuw.de/seminar/id/3728
END:VEVENT
END:VCALENDAR