BEGIN:VCALENDAR
VERSION:2.0
PRODID:-//OS//seminar.event//DE
URL:https://www.akademie-stuw.de/seminar/id/3735
NAME:Honorargespräche souverän führen - So erhöhen Sie die Honorarakzeptan
 z Ihrer Mandanten	
X-WR-CALNAME:Honorargespräche souverän führen - So erhöhen Sie die Honorar
 akzeptanz Ihrer Mandanten	
TIMEZONE-ID:Europe/Berlin
X-WR-TIMEZONE:Europe/Berlin
BEGIN:VEVENT
UID:5694@os-seminare.de
SEQUENCE:0
DTSTAMP:20260424T210109Z
DTSTART:20250925T120000Z
DTEND:20250925T133000Z
SUMMARY:Honorargespräche souverän führen - So erhöhen Sie die Honorarakzep
 tanz Ihrer Mandanten	
LOCATION:LIVE-Webinar\, per Anmeldelink
DESCRIPTION:https://www.akademie-stuw.de/seminar/id/3735
URL;VALUE=URI:https://www.akademie-stuw.de/seminar/id/3735
END:VEVENT
END:VCALENDAR