BEGIN:VCALENDAR
VERSION:2.0
PRODID:-//OS//seminar.event//DE
URL:https://www.akademie-stuw.de/seminar/id/3804
NAME:Der Minijob im Lohnmandat – Sozialversicherungsrechtliche Fallstricke
  vermeiden!
X-WR-CALNAME:Der Minijob im Lohnmandat – Sozialversicherungsrechtliche Fal
 lstricke vermeiden!
TIMEZONE-ID:Europe/Berlin
X-WR-TIMEZONE:Europe/Berlin
BEGIN:VEVENT
UID:5767@os-seminare.de
SEQUENCE:0
DTSTAMP:20260423T010447Z
DTSTART:20250616T120000Z
DTEND:20250616T150000Z
SUMMARY:Der Minijob im Lohnmandat – Sozialversicherungsrechtliche Fallstri
 cke vermeiden!
LOCATION:LIVE-Webinar\, per Anmeldelink
DESCRIPTION:https://www.akademie-stuw.de/seminar/id/3804
URL;VALUE=URI:https://www.akademie-stuw.de/seminar/id/3804
END:VEVENT
END:VCALENDAR