BEGIN:VCALENDAR
VERSION:2.0
PRODID:-//OS//seminar.event//DE
URL:https://www.akademie-stuw.de/seminar/id/3912
NAME:Taxation Island - Aktuelles Steuerrecht für junge Steuerberater 
X-WR-CALNAME:Taxation Island - Aktuelles Steuerrecht für junge Steuerberat
 er 
TIMEZONE-ID:Europe/Berlin
X-WR-TIMEZONE:Europe/Berlin
BEGIN:VEVENT
UID:5906@os-seminare.de
SEQUENCE:0
DTSTAMP:20260422T104418Z
DTSTART:20250526T080000Z
DTEND:20250526T160000Z
SUMMARY:\"Tax & Relax\": Steuern am Meer
LOCATION:Coworking Mallorca\, Carrer de la Garsa 6\, 07610 Palma de Mallor
 ca\, Spanien
DESCRIPTION:https://www.akademie-stuw.de/seminar/id/3912
URL;VALUE=URI:https://www.akademie-stuw.de/seminar/id/3912
END:VEVENT
BEGIN:VEVENT
UID:5908@os-seminare.de
SEQUENCE:0
DTSTAMP:20260422T104418Z
DTSTART:20250527T080000Z
DTEND:20250527T120000Z
SUMMARY:Haftung & Cyberrisiken für Steuerberater 
LOCATION:Coworking Mallorca\, Carrer de la Garsa 6\, 07610 Palma de Mallor
 ca\, Spanien
DESCRIPTION:https://www.akademie-stuw.de/seminar/id/3912
URL;VALUE=URI:https://www.akademie-stuw.de/seminar/id/3912
END:VEVENT
END:VCALENDAR