BEGIN:VCALENDAR
VERSION:2.0
PRODID:-//OS//seminar.event//DE
URL:https://www.akademie-stuw.de/seminar/id/3954
NAME:Aktuelle steuer- und zivilrechtliche Überlegungen zum Jahresende 2025
  in Siegburg
X-WR-CALNAME:Aktuelle steuer- und zivilrechtliche Überlegungen zum Jahrese
 nde 2025 in Siegburg
TIMEZONE-ID:Europe/Berlin
X-WR-TIMEZONE:Europe/Berlin
BEGIN:VEVENT
UID:5941@os-seminare.de
SEQUENCE:0
DTSTAMP:20260422T001156Z
DTSTART:20251203T160000Z
DTEND:20251203T190000Z
SUMMARY:Aktuelle steuer- und zivilrechtliche Überlegungen zum Jahresende 2
 025 im Rhein-Sieg-Kreis
LOCATION:Rhein-Sieg-Forum\, Bachstr. 1\, 53721 Siegburg
DESCRIPTION:https://www.akademie-stuw.de/seminar/id/3954
URL;VALUE=URI:https://www.akademie-stuw.de/seminar/id/3954
END:VEVENT
END:VCALENDAR