BEGIN:VCALENDAR
VERSION:2.0
PRODID:-//OS//seminar.event//DE
URL:https://www.akademie-stuw.de/seminar/id/4058
NAME:Tagesworkshop Buchhaltung: Routinierte Abwicklung von Geschäftsvorfäl
 len – Fit für kommende Anforderungen (Teil I 15.09. + Teil II 16.09.25)
X-WR-CALNAME:Tagesworkshop Buchhaltung: Routinierte Abwicklung von Geschäf
 tsvorfällen – Fit für kommende Anforderungen (Teil I 15.09. + Teil II 16.0
 9.25)
TIMEZONE-ID:Europe/Berlin
X-WR-TIMEZONE:Europe/Berlin
BEGIN:VEVENT
UID:6067@os-seminare.de
SEQUENCE:0
DTSTAMP:20260424T223458Z
DTSTART:20250915T073000Z
DTEND:20250915T144500Z
SUMMARY:Tagesworkshop Buchhaltung: Routinierte Abwicklung von Geschäftsvor
 fällen – Fit für kommende Anforderungen Teil I
LOCATION:Schulungszentrum der Akademie\, Von-der-Wettern-Str. 17\, 51149 K
 öln
DESCRIPTION:https://www.akademie-stuw.de/seminar/id/4058
URL;VALUE=URI:https://www.akademie-stuw.de/seminar/id/4058
END:VEVENT
BEGIN:VEVENT
UID:6068@os-seminare.de
SEQUENCE:0
DTSTAMP:20260424T223458Z
DTSTART:20250916T073000Z
DTEND:20250916T144500Z
SUMMARY:Tagesworkshop Buchhaltung: Routinierte Abwicklung von Geschäftsvor
 fällen – Fit für kommende Anforderungen Teil II
LOCATION:Schulungszentrum der Akademie\, Von-der-Wettern-Str. 17\, 51149 K
 öln
DESCRIPTION:https://www.akademie-stuw.de/seminar/id/4058
URL;VALUE=URI:https://www.akademie-stuw.de/seminar/id/4058
END:VEVENT
END:VCALENDAR