BEGIN:VCALENDAR
VERSION:2.0
PRODID:-//OS//seminar.event//DE
URL:https://www.akademie-stuw.de/seminar/id/4153
NAME:Bilanzberichtigung, Bilanzänderung u. Kapitalangleichung richtig umse
 tzen
X-WR-CALNAME:Bilanzberichtigung, Bilanzänderung u. Kapitalangleichung rich
 tig umsetzen
TIMEZONE-ID:Europe/Berlin
X-WR-TIMEZONE:Europe/Berlin
BEGIN:VEVENT
UID:6225@os-seminare.de
SEQUENCE:0
DTSTAMP:20260421T083312Z
DTSTART:20250901T070000Z
DTEND:20250901T103000Z
SUMMARY:Bilanzberichtigung\, Bilanzänderung u. Kaptalangleichung richtig u
 msetzen
LOCATION:LIVE-Webinar\, per Anmeldelink
DESCRIPTION:https://www.akademie-stuw.de/seminar/id/4153
URL;VALUE=URI:https://www.akademie-stuw.de/seminar/id/4153
END:VEVENT
END:VCALENDAR