BEGIN:VCALENDAR
VERSION:2.0
PRODID:-//OS//seminar.event//DE
URL:https://www.akademie-stuw.de/seminar/id/4454
NAME:Top Aktuelles zum Umwandlungssteuergesetz
X-WR-CALNAME:Top Aktuelles zum Umwandlungssteuergesetz
TIMEZONE-ID:Europe/Berlin
X-WR-TIMEZONE:Europe/Berlin
BEGIN:VEVENT
UID:6588@os-seminare.de
SEQUENCE:0
DTSTAMP:20260421T083313Z
DTSTART:20260113T080000Z
DTEND:20260113T113000Z
SUMMARY:Top Aktuelles zum Umwandlungssteuergesetz
LOCATION:LIVE-Webinar\, per Anmeldelink
DESCRIPTION:https://www.akademie-stuw.de/seminar/id/4454
URL;VALUE=URI:https://www.akademie-stuw.de/seminar/id/4454
END:VEVENT
END:VCALENDAR