BEGIN:VCALENDAR
VERSION:2.0
PRODID:-//OS//seminar.event//DE
URL:https://www.akademie-stuw.de/seminar/id/4569
NAME:Kryptowährungen im Steuerrecht (Aufbau)
X-WR-CALNAME:Kryptowährungen im Steuerrecht (Aufbau)
TIMEZONE-ID:Europe/Berlin
X-WR-TIMEZONE:Europe/Berlin
BEGIN:VEVENT
UID:6717@os-seminare.de
SEQUENCE:0
DTSTAMP:20260419T124028Z
DTSTART:20260209T130000Z
DTEND:20260209T134500Z
SUMMARY:Kryptowährungen im Steuerrecht (Aufbau)
LOCATION:LIVE-Webinar\, per Anmeldelink
DESCRIPTION:https://www.akademie-stuw.de/seminar/id/4569
URL;VALUE=URI:https://www.akademie-stuw.de/seminar/id/4569
END:VEVENT
END:VCALENDAR