BEGIN:VCALENDAR
VERSION:2.0
PRODID:-//OS//seminar.event//DE
URL:https://www.akademie-stuw.de/seminar/id/4869
NAME:Aktuelle Änderungen bei der steuerlichen Berücksichtigung von Kindern
  - Update
X-WR-CALNAME:Aktuelle Änderungen bei der steuerlichen Berücksichtigung von
  Kindern - Update
TIMEZONE-ID:Europe/Berlin
X-WR-TIMEZONE:Europe/Berlin
BEGIN:VEVENT
UID:7119@os-seminare.de
SEQUENCE:0
DTSTAMP:20260425T151127Z
DTSTART:20260622T090000Z
DTEND:20260622T094500Z
SUMMARY:Aktuelle Änderungen bei der steuerlichen Berücksichtigung von Kind
 ern - Update
LOCATION:LIVE-Webinar\, per Anmeldelink
DESCRIPTION:https://www.akademie-stuw.de/seminar/id/4869
URL;VALUE=URI:https://www.akademie-stuw.de/seminar/id/4869
END:VEVENT
END:VCALENDAR