BEGIN:VCALENDAR
VERSION:2.0
PRODID:-//OS//seminar.event//DE
URL:https://www.akademie-stuw.de/seminar/id/5296
NAME:Die Ferienwohnung im Einkommen- und Umsatzsteuerrecht – steuerliche B
 esonderheiten bei Kauf, Nutzung und Verkauf (inkl. „Airbnb“)
X-WR-CALNAME:Die Ferienwohnung im Einkommen- und Umsatzsteuerrecht – steue
 rliche Besonderheiten bei Kauf, Nutzung und Verkauf (inkl. „Airbnb“)
TIMEZONE-ID:Europe/Berlin
X-WR-TIMEZONE:Europe/Berlin
BEGIN:VEVENT
UID:7716@os-seminare.de
SEQUENCE:0
DTSTAMP:20260421T174037Z
DTSTART:20260511T070000Z
DTEND:20260511T090000Z
SUMMARY:Die Ferienwohnung im Einkommen- und Umsatzsteuerrecht – steuerlich
 e Besonderheiten bei Kauf\, Nutzung und Verkauf (inkl. „Airbnb“)
LOCATION:LIVE-Webinar\, per Anmeldelink
DESCRIPTION:https://www.akademie-stuw.de/seminar/id/5296
URL;VALUE=URI:https://www.akademie-stuw.de/seminar/id/5296
END:VEVENT
END:VCALENDAR