BEGIN:VCALENDAR
VERSION:2.0
PRODID:-//OS//seminar.event//DE
URL:https://www.akademie-stuw.de/seminar/id/5302
NAME:Betriebsaufspaltung – Absicherung, Beendigung, Gestaltungsideen
X-WR-CALNAME:Betriebsaufspaltung – Absicherung, Beendigung, Gestaltungside
 en
TIMEZONE-ID:Europe/Berlin
X-WR-TIMEZONE:Europe/Berlin
BEGIN:VEVENT
UID:7722@os-seminare.de
SEQUENCE:0
DTSTAMP:20260424T114008Z
DTSTART:20260924T070000Z
DTEND:20260924T110000Z
SUMMARY:Betriebsaufspaltung – Absicherung\, Beendigung\, Gestaltungsideen
LOCATION:LIVE-Webinar\, per Anmeldelink
DESCRIPTION:https://www.akademie-stuw.de/seminar/id/5302
URL;VALUE=URI:https://www.akademie-stuw.de/seminar/id/5302
END:VEVENT
END:VCALENDAR