BEGIN:VCALENDAR
VERSION:2.0
PRODID:-//OS//seminar.event//DE
URL:https://www.akademie-stuw.de/seminar/id/5352
NAME:Praxiskompass Microsoft Teams
X-WR-CALNAME:Praxiskompass Microsoft Teams
TIMEZONE-ID:Europe/Berlin
X-WR-TIMEZONE:Europe/Berlin
BEGIN:VEVENT
UID:7778@os-seminare.de
SEQUENCE:0
DTSTAMP:20260425T152354Z
DTSTART:20260519T063000Z
DTEND:20260519T103000Z
SUMMARY:Praxiskompass Microsoft Teams
LOCATION:LIVE-Webinar\, per Anmeldelink
DESCRIPTION:https://www.akademie-stuw.de/seminar/id/5352
URL;VALUE=URI:https://www.akademie-stuw.de/seminar/id/5352
END:VEVENT
END:VCALENDAR