BEGIN:VCALENDAR
VERSION:2.0
PRODID:-//OS//seminar.event//DE
URL:https://www.akademie-stuw.de/seminar/id/5353
NAME:Richtige Analyse und Steuerung der Ertragslage: Bilanzanalyse mit aus
 sagekräftigen KPIs
X-WR-CALNAME:Richtige Analyse und Steuerung der Ertragslage: Bilanzanalyse
  mit aussagekräftigen KPIs
TIMEZONE-ID:Europe/Berlin
X-WR-TIMEZONE:Europe/Berlin
BEGIN:VEVENT
UID:7779@os-seminare.de
SEQUENCE:0
DTSTAMP:20260422T015933Z
DTSTART:20260520T070000Z
DTEND:20260520T090000Z
SUMMARY:Richtige Analyse und Steuerung der Ertragslage: Bilanzanalyse mit 
 aussagekräftigen KPIs
LOCATION:LIVE-Webinar\, per Anmeldelink
DESCRIPTION:https://www.akademie-stuw.de/seminar/id/5353
URL;VALUE=URI:https://www.akademie-stuw.de/seminar/id/5353
END:VEVENT
END:VCALENDAR