BEGIN:VCALENDAR
VERSION:2.0
PRODID:-//OS//seminar.event//DE
URL:https://www.akademie-stuw.de/seminar/id/5354
NAME:Fit am Telefon: Die hörbare Visitenkarte Ihrer Kanzlei (Für MA und Be
 rufsstarter)
X-WR-CALNAME:Fit am Telefon: Die hörbare Visitenkarte Ihrer Kanzlei (Für M
 A und Berufsstarter)
TIMEZONE-ID:Europe/Berlin
X-WR-TIMEZONE:Europe/Berlin
BEGIN:VEVENT
UID:7780@os-seminare.de
SEQUENCE:0
DTSTAMP:20260425T150939Z
DTSTART:20260610T070000Z
DTEND:20260610T120000Z
SUMMARY:Fit am Telefon: Die hörbare Visitenkarte Ihrer Kanzlei (Für MA und
  Berufsstarter)
LOCATION:LIVE-Webinar\, per Anmeldelink
DESCRIPTION:https://www.akademie-stuw.de/seminar/id/5354
URL;VALUE=URI:https://www.akademie-stuw.de/seminar/id/5354
END:VEVENT
END:VCALENDAR