BEGIN:VCALENDAR
VERSION:2.0
PRODID:-//OS//seminar.event//DE
URL:https://www.akademie-stuw.de/seminar/id/931
NAME:Praktiker-Seminare 2021/2022 Köln I
X-WR-CALNAME:Praktiker-Seminare 2021/2022 Köln I
TIMEZONE-ID:Europe/Berlin
X-WR-TIMEZONE:Europe/Berlin
BEGIN:VEVENT
UID:1490@os-seminare.de
SEQUENCE:0
DTSTAMP:20260423T053921Z
DTSTART:20210920T133000Z
DTEND:20210920T170000Z
SUMMARY:Aktuelles Umsatzsteuerrecht - Handlungsempfehlungen im Zusammenhan
 g mit der Umsetzung des Umsatzsteuer-Digitalpakets zum 01.07.2021
LOCATION:Leonardo Hotel am Stadtwald\, Dürener Str. 287\, 50935 Köln
DESCRIPTION:https://www.akademie-stuw.de/seminar/id/931
URL;VALUE=URI:https://www.akademie-stuw.de/seminar/id/931
END:VEVENT
BEGIN:VEVENT
UID:1492@os-seminare.de
SEQUENCE:0
DTSTAMP:20260423T053921Z
DTSTART:20211011T133000Z
DTEND:20211011T170000Z
SUMMARY:Aktuelle ertragsteuerliche Praxisprobleme
LOCATION:Leonardo Hotel am Stadtwald\, Dürener Str. 287\, 50935 Köln
DESCRIPTION:https://www.akademie-stuw.de/seminar/id/931
URL;VALUE=URI:https://www.akademie-stuw.de/seminar/id/931
END:VEVENT
BEGIN:VEVENT
UID:1493@os-seminare.de
SEQUENCE:0
DTSTAMP:20260423T053921Z
DTSTART:20211108T143000Z
DTEND:20211108T180000Z
SUMMARY:Aktuelles zur Besteuerung von Personengesellschaften - Fallstricke
  bei Gründung und Beendigung
LOCATION:Leonardo Hotel am Stadtwald\, Dürener Str. 287\, 50935 Köln
DESCRIPTION:https://www.akademie-stuw.de/seminar/id/931
URL;VALUE=URI:https://www.akademie-stuw.de/seminar/id/931
END:VEVENT
BEGIN:VEVENT
UID:1494@os-seminare.de
SEQUENCE:0
DTSTAMP:20260423T053921Z
DTSTART:20211213T143000Z
DTEND:20211213T180000Z
SUMMARY:Aktuelle Zweifelsfragen zu den Dauerbaustellen des Körperschaftste
 uerrechts
LOCATION:Leonardo Hotel am Stadtwald\, Dürener Str. 287\, 50935 Köln
DESCRIPTION:https://www.akademie-stuw.de/seminar/id/931
URL;VALUE=URI:https://www.akademie-stuw.de/seminar/id/931
END:VEVENT
BEGIN:VEVENT
UID:1495@os-seminare.de
SEQUENCE:0
DTSTAMP:20260423T053921Z
DTSTART:20220124T143000Z
DTEND:20220124T180000Z
SUMMARY:Beratungsrelevante Fragestellungen zu Schenkung und Erbfall
LOCATION:Leonardo Hotel am Stadtwald\, Dürener Str. 287\, 50935 Köln
DESCRIPTION:https://www.akademie-stuw.de/seminar/id/931
URL;VALUE=URI:https://www.akademie-stuw.de/seminar/id/931
END:VEVENT
BEGIN:VEVENT
UID:1496@os-seminare.de
SEQUENCE:0
DTSTAMP:20260423T053921Z
DTSTART:20220221T143000Z
DTEND:20220221T180000Z
SUMMARY:Bilanzierungsfragen im Zusammenhang mit der steuerlichen Betriebsp
 rüfung
LOCATION:Leonardo Hotel am Stadtwald\, Dürener Str. 287\, 50935 Köln
DESCRIPTION:https://www.akademie-stuw.de/seminar/id/931
URL;VALUE=URI:https://www.akademie-stuw.de/seminar/id/931
END:VEVENT
BEGIN:VEVENT
UID:1497@os-seminare.de
SEQUENCE:0
DTSTAMP:20260423T053921Z
DTSTART:20220328T133000Z
DTEND:20220328T170000Z
SUMMARY:Verfahrensrechtliche Schwerpunkte für die Beratungspraxis
LOCATION:Leonardo Hotel am Stadtwald\, Dürener Str. 287\, 50935 Köln
DESCRIPTION:https://www.akademie-stuw.de/seminar/id/931
URL;VALUE=URI:https://www.akademie-stuw.de/seminar/id/931
END:VEVENT
BEGIN:VEVENT
UID:1498@os-seminare.de
SEQUENCE:0
DTSTAMP:20260423T053921Z
DTSTART:20220411T133000Z
DTEND:20220411T170000Z
SUMMARY:Aktuelles zur Umwandlung und Umstrukturierung von Personenunterneh
 men
LOCATION:Leonardo Hotel am Stadtwald\, Dürener Str. 287\, 50935 Köln
DESCRIPTION:https://www.akademie-stuw.de/seminar/id/931
URL;VALUE=URI:https://www.akademie-stuw.de/seminar/id/931
END:VEVENT
BEGIN:VEVENT
UID:1499@os-seminare.de
SEQUENCE:0
DTSTAMP:20260423T053921Z
DTSTART:20220516T133000Z
DTEND:20220516T170000Z
SUMMARY:Aktuelles Umsatzsteuerrecht zur Jahresmitte
LOCATION:Leonardo Hotel am Stadtwald\, Dürener Str. 287\, 50935 Köln
DESCRIPTION:https://www.akademie-stuw.de/seminar/id/931
URL;VALUE=URI:https://www.akademie-stuw.de/seminar/id/931
END:VEVENT
BEGIN:VEVENT
UID:1500@os-seminare.de
SEQUENCE:0
DTSTAMP:20260423T053921Z
DTSTART:20220530T133000Z
DTEND:20220530T170000Z
SUMMARY:Aktuelle Entwicklungen und Tendenzen im Ertragsteuerrecht
LOCATION:Leonardo Hotel am Stadtwald\, Dürener Str. 287\, 50935 Köln
DESCRIPTION:https://www.akademie-stuw.de/seminar/id/931
URL;VALUE=URI:https://www.akademie-stuw.de/seminar/id/931
END:VEVENT
END:VCALENDAR